BEGIN:VCALENDAR
VERSION:2.0
PRODID:-//Meditationsleiter.de - ECPv6.15.20//NONSGML v1.0//EN
CALSCALE:GREGORIAN
METHOD:PUBLISH
X-WR-CALNAME:Meditationsleiter.de
X-ORIGINAL-URL:https://meditationsleiter.de
X-WR-CALDESC:Veranstaltungen für Meditationsleiter.de
REFRESH-INTERVAL;VALUE=DURATION:PT1H
X-Robots-Tag:noindex
X-PUBLISHED-TTL:PT1H
BEGIN:VTIMEZONE
TZID:Europe/Berlin
BEGIN:DAYLIGHT
TZOFFSETFROM:+0100
TZOFFSETTO:+0200
TZNAME:CEST
DTSTART:20240331T010000
END:DAYLIGHT
BEGIN:STANDARD
TZOFFSETFROM:+0200
TZOFFSETTO:+0100
TZNAME:CET
DTSTART:20241027T010000
END:STANDARD
BEGIN:DAYLIGHT
TZOFFSETFROM:+0100
TZOFFSETTO:+0200
TZNAME:CEST
DTSTART:20250330T010000
END:DAYLIGHT
BEGIN:STANDARD
TZOFFSETFROM:+0200
TZOFFSETTO:+0100
TZNAME:CET
DTSTART:20251026T010000
END:STANDARD
BEGIN:DAYLIGHT
TZOFFSETFROM:+0100
TZOFFSETTO:+0200
TZNAME:CEST
DTSTART:20260329T010000
END:DAYLIGHT
BEGIN:STANDARD
TZOFFSETFROM:+0200
TZOFFSETTO:+0100
TZNAME:CET
DTSTART:20261025T010000
END:STANDARD
END:VTIMEZONE
BEGIN:VEVENT
DTSTART;TZID=Europe/Berlin:20251101T110000
DTEND;TZID=Europe/Berlin:20251101T190000
DTSTAMP:20260422T230811
CREATED:20250812T220133Z
LAST-MODIFIED:20250812T220133Z
UID:22137-1761994800-1762023600@meditationsleiter.de
SUMMARY:Reiki-Einweihung 3. Grad in Berlin Mitte am 1. November
DESCRIPTION:Überblick\nReiki-Seminar 3. Grad nach Mikao Usui\, Ihr Verbindung mit der Meisterenergie \n\nIm Reiki-Seminar für den 3. Grad öffnet sich Ihnen der Weg zur kraftvollen Reikmeister-Energie. Diese Einweihung verbindet Sie mit dem Meister-Symbol\, auch „Das große Licht“ genannt. Diese Energie unterstützt Sie dabei\, neue Dimensionen der inneren Entwicklung zu erreichen und Ihren Weg zur Meisterschaft bewusst zu gehen – hin zu einem Leben\, in dem Sie als Meister:in Ihr eigenes Leben gestalten. \nIn diesem Seminar erfahren Sie\, wie die Meisterenergie Ihnen hilft\, Blockaden zu lösen\, Heilung zu verstärken und sich mit den höheren Ebenen der universellen Lebensenergie zu verbinden. Sie lernen die Anwendungsmöglichkeiten des dritten Grades kennen\, wie Sie Ihr Bewusstsein über das kollektive Unterbewusstsein erheben und für Ihre persönliche Entwicklung und die Unterstützung anderer nutzen können. \nIch lade Sie herzlich ein\, diesen besonderen Weg zur Meisterschaft zu erleben – zur inneren Freiheit\, zu tiefem Vertrauen und zur Verbindung mit der universellen Energie\, die uns alle vereint. \nAbb.: © snaporama – fotolia.com ~ bearbeitet von ines nonnenmacher \nZeitenSamstag 11 – 19 Uhr \n\n1 Tages Intensiv-Seminar \n\nMeister-Einweihung \n\nMethoden kennenlernen \n\nMeditationen \n\nFragen und Antworten zum Reiki & zu Energie & Energiearbeit \nWeitere InformationenFinden Sie hier:\nReiki Einweihung in Berlin –\nSeminare nach Mikao Usui \n 320 € FÜR 1 TAGes ENERGIE-SEMINAR & REIKI-EINWEIHUNGEN \n\n									\n									\n									\n									\n								Weitere InformationenJetzt buchen!
URL:https://meditationsleiter.de/events/reiki-einweihung-3-grad-berlin-mitte-am-1-november/
LOCATION:Heilsame Mitte\, Zionskirchstr. 71\, Berlin\, 10707\, Deutschland
CATEGORIES:Reiki Seminar
ATTACH;FMTTYPE=image/jpeg:https://meditationsleiter.de/wp-content/uploads/2015/04/reiki-grad-3-einweihung-berlin.jpg
END:VEVENT
BEGIN:VEVENT
DTSTART;TZID=Europe/Berlin:20251128T140000
DTEND;TZID=Europe/Berlin:20251129T180000
DTSTAMP:20260422T230811
CREATED:20251026T231231Z
LAST-MODIFIED:20251026T231231Z
UID:22248-1764338400-1764439200@meditationsleiter.de
SUMMARY:Reiki-Einweihung 1. Grad – Reiki-Seminar in Berlin im November
DESCRIPTION:Überblick\n  \nEntdecken Sie die transformative und heilsame Kraft des Handauflegens im 1. Reiki-Grad in diesem zweitägigen Seminar in Berlin! \n\nIn einer kleinen\, achtsam geführten Gruppe begleite ich Sie auf Ihrem Weg zur eigenen Reiki-Praxis. Gemeinsam erkunden wir\, wie Sie durch Reiki mehr Harmonie\, Entspannung und Lebensfreude in Ihr Leben bringen können. \nSie lernen\, wie Sie die universelle Lebensenergie nutzen können und werden nach den Reiki-Einweihungen in der Lage sein\, sich selbst und anderen auf eine neue\, unterstützende Weise Lebensenergie zukommen zu lassen. \nErleben Sie\, wie Sie die energetische Verbindung von Körper\, Geist und Seele mit Reiki im 1. Grad für sich nutzen können. \n\nEinführung in die Grundlagen von Reiki: Lernen Sie die Geschichte und die Prinzipien des Reiki kennen. \n\nPraktische Übungen: Erfahren Sie\, wie Sie Reiki bei sich selbst und bei anderen anwenden können. \n\nEinweihung in den Reiki-Energie: Sie erhalten vier Einweihung\, Ihre Energiekanäle werden gereinigt und die Energie-Verbindung aktiviert. \n\nAustausch und Reflexion: Sie haben die Gelegenheit\, sich auszutauschen und Ihre Erfahrungen zu teilen. \nDas Reiki-Seminar ist für alle geeignet\, die sich für Reiki und Energiearbeit interessieren und ihre eigene Heilung vertiefen möchten. Zum Abschluss erhalten Sie eine Urkunde über die Teilnahme & Einweihung in den 1. Reiki-Grad. \nSind Sie bereit\, die heilende Kraft von Reiki zu entdecken und anzuwenden? Dann freue ich mich sehr darauf\, Sie an diesem inspirierenden Freitag und Samstag willkommen zu heißen! \nHerzliche GrüßeRené \nZeitenDatum: 28. & 29. November 2025 \nBeginn am Freitag nach Absprache \nUhrzeit Fr 14 – 20:30 + Sa 11 – 18 Uhr \n\nIntensive Praxis: Erleben Sie zahlreiche praktische Anwendungen und erhalten Sie wertvolle Tipps für Ihre Reiki-Praxis. \n\nIndividuelle Betreuung: Kleine Gruppe (mx 4 Teilnehmende) für persönliche Anleitung und Unterstützung während des gesamten Seminars. \n\nReiki Seminarunterlagen: Sie erhalten alle theoretischen & praktischen Informationen zum 1. Reiki-Grad \n\nReikiübungsabend: Sie erhalten die Möglichkeit an den den Reiki – Übungstreffen zur Vertiefung teilzunehmen \n\nFragen und Antworten zu Energie & Energiearbeit \n 230 € FÜR 2 TAGE ENERGIE-SEMINAR & 4 REIKI-EINWEIHUNGEN \nAbb.: © snaporama – fotolia.com ~ bearbeitet von ines nonnenmacher \n\n									\n									\n									\n									\n								Informationen zur Reiki-EinweihungAnmelden für Reiki Einweihung in Berlin
URL:https://meditationsleiter.de/events/reiki-einweihung-1-grad-reiki-seminar-in-berlin-im-november/
LOCATION:Heilsame Mitte\, Zionskirchstr. 71\, Berlin\, 10707\, Deutschland
CATEGORIES:Reiki Seminar
ATTACH;FMTTYPE=image/jpeg:https://meditationsleiter.de/wp-content/uploads/2015/04/reiki-grad-1-einweihung-berlin.jpg
END:VEVENT
BEGIN:VEVENT
DTSTART;TZID=Europe/Berlin:20251130T110000
DTEND;TZID=Europe/Berlin:20251130T203000
DTSTAMP:20260422T230811
CREATED:20251026T232017Z
LAST-MODIFIED:20251026T232017Z
UID:22259-1764500400-1764534600@meditationsleiter.de
SUMMARY:Reiki-Einweihung 2. Grad - Reiki Seminar in Berlin Mitte
DESCRIPTION:Überblick\nReiki nach Usui ist eine japanische Energieübertragung durch Handauflegen \n\nIm Reiki-Seminar für den 2. Grad nach Mikao Usui erhalten Sie drei besondere Einweihungen\, die Ihre Verbindung zur universellen Lebensenergie vertiefen und Ihnen den Zugang zu kraftvollen Reiki-Symbolen eröffnen. Diese Symbole ermöglichen es Ihnen\, die Energie noch gezielter einzusetzen und ihre Wirkung mehr zu lenken. \nIn diesem Seminar lernen Sie die einzigartigen Anwendungen des zweiten Grades kennen\, von der Mentalbehandlung zur sanften Auflösung alter Muster und Glaubenssätze über das gezielte Verstärken der Reiki-Energie bis hin zur Heilung des inneren Kindes. Auch das Harmonisieren und Auflösen von Energieblockaden gehört zu den wertvollen Techniken\, die Sie hier erfahren werden. \nDie kleine Gruppenstärke von maximal vier Teilnehmenden schafft eine persönliche Atmosphäre\, in der jede Person individuell begleitet wird. In entspannter und liebevoller Umgebung entfalten Sie Ihre Reiki-Kraft. Vorkenntnisse sind dabei nicht erforderlich. \nWenn Reiki durch Sie fließt\, öffnet und erfüllt es das Herz. Jede Anwendung wird zu einem tief berührenden\, warmherzigen Erlebnis. 😊 \nSind Sie bereit\, die heilende Kraft von Reiki weiter zu entdecken? Dann freue ich mich sehr darauf\, Sie an diesem inspirierenden Sonntag willkommen zu heißen! \nHerzliche Grüße\nRené \nZeitenSonntag 11 – 20:30 Uhr \n\n1 Tages Intensiv-Seminar \n\n3 Einweihungen & 3 Symbole \n\nMethoden kennenlernen – Heilung des inneren Kindes\, Mentalbehandlung\, Fernbehandlung\, Potenzial entdecken und ins Licht holen \n\nFragen und Antworten zu Energie & Energiearbeit \nWeitere InformationenFinden Sie hier:\nReiki Einweihung in Berlin –\nSeminare nach Mikao Usui \n 250 € FÜR 1 TAGes ENERGIE-SEMINAR & REIKI-EINWEIHUNGEN \nAbb.: © snaporama – fotolia.com ~ bearbeitet von ines nonnenmacher \n\n									\n									\n									\n									\n								Informationen 2. Grad Einweihung in BerlinFür die Einweihung in den 2. Grad anmelden
URL:https://meditationsleiter.de/events/reiki-einweihung-2-grad-reiki-seminar-in-berlin-mitte/
LOCATION:Heilsame Mitte\, Zionskirchstr. 71\, Berlin\, 10707\, Deutschland
CATEGORIES:Reiki Seminar
ATTACH;FMTTYPE=image/jpeg:https://meditationsleiter.de/wp-content/uploads/2015/04/reiki-grad-2-einweihung-berlin.jpg
END:VEVENT
END:VCALENDAR