BEGIN:VCALENDAR
VERSION:2.0
PRODID:-//Meditationsleiter.de - ECPv6.15.20//NONSGML v1.0//EN
CALSCALE:GREGORIAN
METHOD:PUBLISH
X-WR-CALNAME:Meditationsleiter.de
X-ORIGINAL-URL:https://meditationsleiter.de
X-WR-CALDESC:Veranstaltungen für Meditationsleiter.de
REFRESH-INTERVAL;VALUE=DURATION:PT1H
X-Robots-Tag:noindex
X-PUBLISHED-TTL:PT1H
BEGIN:VTIMEZONE
TZID:Europe/Berlin
BEGIN:DAYLIGHT
TZOFFSETFROM:+0100
TZOFFSETTO:+0200
TZNAME:CEST
DTSTART:20240331T010000
END:DAYLIGHT
BEGIN:STANDARD
TZOFFSETFROM:+0200
TZOFFSETTO:+0100
TZNAME:CET
DTSTART:20241027T010000
END:STANDARD
BEGIN:DAYLIGHT
TZOFFSETFROM:+0100
TZOFFSETTO:+0200
TZNAME:CEST
DTSTART:20250330T010000
END:DAYLIGHT
BEGIN:STANDARD
TZOFFSETFROM:+0200
TZOFFSETTO:+0100
TZNAME:CET
DTSTART:20251026T010000
END:STANDARD
BEGIN:DAYLIGHT
TZOFFSETFROM:+0100
TZOFFSETTO:+0200
TZNAME:CEST
DTSTART:20260329T010000
END:DAYLIGHT
BEGIN:STANDARD
TZOFFSETFROM:+0200
TZOFFSETTO:+0100
TZNAME:CET
DTSTART:20261025T010000
END:STANDARD
END:VTIMEZONE
BEGIN:VEVENT
DTSTART;TZID=Europe/Berlin:20251012T110000
DTEND;TZID=Europe/Berlin:20251012T203000
DTSTAMP:20260421T173033
CREATED:20250705T070523Z
LAST-MODIFIED:20250705T070523Z
UID:22032-1760266800-1760301000@meditationsleiter.de
SUMMARY:Reiki-Einweihung 2. Grad in Berlin - Reiki Seminar in Mitte - 12. Oktober
DESCRIPTION:Überblick\nReiki nach Usui ist eine japanische Energieübertragung durch Handauflegen \n\nIm Reiki-Seminar für den 2. Grad nach Mikao Usui erhalten Sie drei besondere Einweihungen\, die Ihre Verbindung zur universellen Lebensenergie vertiefen und Ihnen den Zugang zu kraftvollen Reiki-Symbolen eröffnen. Diese Symbole ermöglichen es Ihnen\, die Energie noch gezielter einzusetzen und ihre Wirkung mehr zu lenken. \nIn diesem Seminar lernen Sie die einzigartigen Anwendungen des zweiten Grades kennen\, von der Mentalbehandlung zur sanften Auflösung alter Muster und Glaubenssätze über das gezielte Verstärken der Reiki-Energie bis hin zur Heilung des inneren Kindes. Auch das Harmonisieren und Auflösen von Energieblockaden gehört zu den wertvollen Techniken\, die Sie hier erfahren werden. \nDie kleine Gruppenstärke von maximal vier Teilnehmenden schafft eine persönliche Atmosphäre\, in der jede Person individuell begleitet wird. In entspannter und liebevoller Umgebung entfalten Sie Ihre Reiki-Kraft – Vorkenntnisse sind dabei nicht erforderlich. \nWenn Reiki durch Sie fließt\, öffnet und erfüllt es das Herz. Jede Anwendung wird zu einem tief berührenden\, warmherzigen Erlebnis. 😊 \nZeitenSonntag 11 – 20:30 Uhr \n\n1 Tages Intensiv-Seminar \n\n3 Einweihungen & 3 Symbole \n\nMethoden kennenlernen – Heilung des inneren Kindes\, Mentalbehandlung\, Fernbehandlung\, Potenzial entdecken und ins Licht holen \n\nMeditationen \n\nFragen und Antworten zu Energie & Energiearbeit \nWeitere InformationenFinden Sie hier:\nReiki Einweihung in Berlin –\nSeminare nach Mikao Usui \n 250 € FÜR 1 TAGes ENERGIE-SEMINAR & REIKI-EINWEIHUNGEN \nAbb.: © snaporama – fotolia.com ~ bearbeitet von ines nonnenmacher \n\n									\n									\n									\n									\n								Weitere InformationenJetzt buchen!
URL:https://meditationsleiter.de/events/reiki-einweihung-2-grad-berlin-reiki-seminar-berlin-mitte/
LOCATION:Heilsame Mitte\, Zionskirchstr. 71\, Berlin\, 10707\, Deutschland
CATEGORIES:Reiki Seminar
ATTACH;FMTTYPE=image/jpeg:https://meditationsleiter.de/wp-content/uploads/2015/04/reiki-grad-2-einweihung-berlin.jpg
END:VEVENT
BEGIN:VEVENT
DTSTART;TZID=Europe/Berlin:20251016T183000
DTEND;TZID=Europe/Berlin:20251016T220000
DTSTAMP:20260421T173033
CREATED:20250127T233017Z
LAST-MODIFIED:20250705T184655Z
UID:21671-1760639400-1760652000@meditationsleiter.de
SUMMARY:Meditationsleiter-Ausbildung in Berlin am 16. Oktober
DESCRIPTION:ÜberblickTauchen Sie tief in die Welt der Meditation ein und lernen Sie\, Menschen achtsam und kompetent anzuleiten. In meiner Meditationsleiterausbildung begleite ich Sie über sechs Monate in einer kleinen Gruppe in Berlin. Neben fundierter Theorie lege ich großen Wert auf praktische Erfahrung und persönliche Entwicklung\, sodass Sie Ihren eigenen Stil als Meditationsleiter:in entfalten können. \nMit dieser Ausbildung erleben Sie Meditation als Methode und auch inneren Weg\, den Sie an andere weitergeben können. Die Ausbildung richtet sich sowohl an Anfänger:innen als auch an Fortgeschrittene – also an alle\, die Meditation lieben und den Wunsch haben\, diese Praxis anderen nahe zu bringen. \nDas erwartet Sie in der Ausbildung: \nVertiefung in Meditationstechniken: Von Achtsamkeit bis hin zu geführten Meditationen \n\nPraxisnahes Lernen: Erlernen Sie die Kunst des Anleitens und energetischen Begleitens in einer kleinen Ausbildungsgruppe \n\nAchtsamkeit und Selbsterfahrung: Erleben Sie Meditation auf einer neuen Ebene und entwickeln Sie sich als Mensch und Meditationslehrer:in weiter \n\nEnergetisches Arbeiten: Einführung in die Grundlagen der Energiearbeit und Achtsamkeit und der Umgang mit Gruppen und Einzelpersonen \n\nEntwicklung Ihres eigenen Stils: Gestalten Sie individuelle Meditationen und finden Sie Ihren authentischen Weg im Anleiten \nZusammengefasst auf einen Blick: \nFormat: 6 Monate\, mit 12 Abendterminen und intensiven Praxisübungen \n\nStruktur: Praxisorientierter Unterricht mit Modulen\, die aufeinander aufbauen\, sodass Sie sicher und kompetent das Anleiten von Meditationen erlernen \n\nFür wen geeignet? Für alle\, die Meditation tief erfahren und andere achtsam begleiten möchten \n\nAbschluss: Urkunde als Meditationsleiter:in \nZeiten & OrtStart: 16. Oktober 2025 \nDauer: 6 Monate\, mit Terminen ca. alle zwei Wochen \nKurszeiten: Donnerstags 18:30 bis 22 Uhr \nOrt: Zionskirchstr. in Berlin Mitte \n\nIntensive Begleitung in einer kleinen Gruppe mit max 5 Teilnehmende \n\nPraxiseinheiten und Übungsskripte für Ihre eigene Meditationspraxis und spätere Arbeit \n\nPersönlichen Austausch und individuelle Rückmeldungen \n\nMelden Sie sich per E-Mail oder telefonisch für die geplanten Termine und alle detaillierten Informationen zur Ausbildung \nVideo VorschauSorry\, your browser doesn't support embedded videos.Sind Sie bereit\, Ihre Meditationspraxis zu vertiefen und sie mit anderen zu teilen? Dann freue ich mich darauf\, Sie auf dieser Reise willkommen zu heißen! \nHerzliche Grüße\nRené \n Monatlichen Ratenzahlung möglich Monatliche Rate: 6 x 155 € – Gesamtpreis: 930 € \n\n									\n									\n									\n									\n								Ausführliche Infos0176 76 76 1118Infos per E-Mail
URL:https://meditationsleiter.de/events/meditationsleiter-ausbildung-berlin-16-oktober-2025/
LOCATION:Heilsame Mitte\, Zionskirchstr. 71\, Berlin\, 10707\, Deutschland
CATEGORIES:Ausbildung zur Meditationsleiter:in,Ausbildungen
ATTACH;FMTTYPE=image/jpeg:https://meditationsleiter.de/wp-content/uploads/2024/09/rene-monochord-.jpg
END:VEVENT
END:VCALENDAR