BEGIN:VCALENDAR
VERSION:2.0
PRODID:-//Meditationsleiter.de - ECPv6.15.20//NONSGML v1.0//EN
CALSCALE:GREGORIAN
METHOD:PUBLISH
X-WR-CALNAME:Meditationsleiter.de
X-ORIGINAL-URL:https://meditationsleiter.de
X-WR-CALDESC:Veranstaltungen für Meditationsleiter.de
REFRESH-INTERVAL;VALUE=DURATION:PT1H
X-Robots-Tag:noindex
X-PUBLISHED-TTL:PT1H
BEGIN:VTIMEZONE
TZID:Europe/Berlin
BEGIN:DAYLIGHT
TZOFFSETFROM:+0100
TZOFFSETTO:+0200
TZNAME:CEST
DTSTART:20230326T010000
END:DAYLIGHT
BEGIN:STANDARD
TZOFFSETFROM:+0200
TZOFFSETTO:+0100
TZNAME:CET
DTSTART:20231029T010000
END:STANDARD
BEGIN:DAYLIGHT
TZOFFSETFROM:+0100
TZOFFSETTO:+0200
TZNAME:CEST
DTSTART:20240331T010000
END:DAYLIGHT
BEGIN:STANDARD
TZOFFSETFROM:+0200
TZOFFSETTO:+0100
TZNAME:CET
DTSTART:20241027T010000
END:STANDARD
BEGIN:DAYLIGHT
TZOFFSETFROM:+0100
TZOFFSETTO:+0200
TZNAME:CEST
DTSTART:20250330T010000
END:DAYLIGHT
BEGIN:STANDARD
TZOFFSETFROM:+0200
TZOFFSETTO:+0100
TZNAME:CET
DTSTART:20251026T010000
END:STANDARD
END:VTIMEZONE
BEGIN:VEVENT
DTSTART;TZID=Europe/Berlin:20241005T110000
DTEND;TZID=Europe/Berlin:20241006T180000
DTSTAMP:20260424T121947
CREATED:20240915T224145Z
LAST-MODIFIED:20241002T140805Z
UID:21021-1728126000-1728237600@meditationsleiter.de
SUMMARY:Reiki-Einweihung 1. Grad in Berlin am 5. & 6. Oktober
DESCRIPTION:Überblick\nReiki nach Usui ist eine japanische Energieübertragung durch Handauflegen \n\nWährend der Reiki-Einweihungen werden Sie sanft mit der Reiki-Energie verbunden\, die Sie anschließend sowohl für sich selbst als auch für andere anwenden können. \nFür viele Menschen ist der erste Reiki-Grad der Beginn einer wunderbaren Reise in die Welt der Energiearbeit und die damit verbundene Feinfühligkeit. \nIm Reiki-Seminar tauchen wir gemeinsam tiefer in die Welt von Reiki ein. Wir besprechen alles Wichtige: die Wirkung der Energie\, die verschiedenen Anwendungsmöglichkeiten und das Handauflegen im 1. Grad. Dabei erfahren Sie\, wie wir die heilsame Energie für uns und andere nutzen können. \nNatürlich nehmen wir uns ausreichend Zeit\, um das Handauflegen zu üben und Reiki praktisch anzuwenden – ganz entspannt und in einer harmonischen Atmosphäre. \nDas Seminar findet in einer kleinen Gruppe mit maximal vier Teilnehmenden statt\, sodass ich individuell auf jede Person eingehen kann. Sie benötigen keinerlei Vorkenntnisse. \nIch bitte Sie lediglich\, 24 Stunden vor dem Seminar auf bewusstseinsverändernde Substanzen zu verzichten und den Abend nach dem Seminar ruhig ausklingen zu lassen. \nWenn Reiki fließt\, wird Ihr Herzzentrum aktiviert und erfüllt\, und jede Anwendung wird zu einer liebevollen\, warmherzigen Erfahrung\, die Sie tief berühren wird. 😊 \nAbb.: © snaporama – fotolia.com ~ bearbeitet von ines nonnenmacher \nZeitenSamstag von 11 bis ca 18 Uhr\nSonntag von 11 bis ca 18 Uhr \n\n2 Tage Seminar \n\n4 Einweihungen \n\nHandauflegen üben \n\nMeditationen \n\nFragen und Antworten zu Energie & Energiearbeit \nWeitere InformationenFinden Sie hier:\nReiki Einweihung in Berlin –\nSeminare nach Mikao Usui \n 220 € FÜR 2 TAGE ENERGIE-SEMINAR & REIKI-EINWEIHUNGEN \n\n									\n									\n									\n									\n								Weitere InformationenJetzt buchen!
URL:https://meditationsleiter.de/events/reiki-einweihung-1-grad-in-berlin-am-5-6-oktober/
LOCATION:Heilsame Mitte\, Zionskirchstr. 71\, Berlin\, 10707\, Deutschland
CATEGORIES:Reiki Seminar
ATTACH;FMTTYPE=image/jpeg:https://meditationsleiter.de/wp-content/uploads/2015/04/reiki-grad-1-einweihung-berlin.jpg
END:VEVENT
BEGIN:VEVENT
DTSTART;TZID=Europe/Berlin:20241017T193000
DTEND;TZID=Europe/Berlin:20241017T220000
DTSTAMP:20260424T121947
CREATED:20240912T132049Z
LAST-MODIFIED:20241002T233837Z
UID:20843-1729193400-1729202400@meditationsleiter.de
SUMMARY:Meditationsleiterausbildung in Berlin - Beginn 17. Oktober
DESCRIPTION:ÜberblickAm 17. Oktober 2024 beginnt eine neue Ausbildung zur Meditationsleiter:in in Berlin. An zwölf Abenden lernen Sie\, Meditationen zu entwickeln und Meditationsgruppen sicher anzuleiten – ganz individuell und praxisnah. \nIn einer kleinen\, praxisorientierten Gruppe können Sie die erlernten Techniken sofort anwenden und Ihren eigenen Meditationsstil weiterentwickeln. Mit persönlichem Feedback und intensiver Betreuung unterstützen ich Sie dabei\, Ihren eigenen Meditationsstil zu finden und zu entwickeln.\nMit dem Ziel\, am Ende der Ausbildung eigenständig Meditationsgruppen zu leiten. \nWas Sie erwartet:\nPraxisorientiertes Lernen: 12 Termine voller Theorie\, Praxis und persönlicher Entwicklung. \n\nIndividuelle Betreuung: Kleine Gruppen mit maximal 6 Teilnehmer:innen. \n\nUmfassende Inhalte: Von Atemtechniken\, kleinen Entspannungsübungen bis hin zu spirituellen Meditationen. \nAuf einen Blick:\nEntwickeln Sie eine eigene Meditationspraxis. \n\nErweitern Sie Ihren Erfahrungsschatz durch vielfältige Meditationsformen. \n\nErwerben Sie das Wissen\, um Meditationen sicher und einfühlsam anzuleiten. \nKontaktieren Sie mich für weitere Informationen und sichern Sie sich Ihren Platz in einer kleinen Ausbildungsgruppe. Ich freue mich von Ihnen zu hören. \nHerzliche Grüße\,\nRené Lecoutré \nZeitenBeginn: 17. Oktober 2024. \nimmer donnerstags \nvon 18:30 – 22 Uhr \n\nKleine Gruppe bis 6 Teilnehmende \n\n12 Ausbildungsabende \n\nIndividuelle Begleitung \nVideo VorschauSorry\, your browser doesn't support embedded videos. monatlichen Rate von 154\,- € Gesamtpreis von 924 € \n\n									\n									\n									\n									\n								Ausführliche Infos0176 76 76 1118Infos per E-Mail
URL:https://meditationsleiter.de/events/meditationsleiterasubildung-in-berlin-beginn-17-oktober/
LOCATION:Heilsame Mitte\, Zionskirchstr. 71\, Berlin\, 10707\, Deutschland
CATEGORIES:Ausbildung zur Meditationsleiter:in,Ausbildungen
ATTACH;FMTTYPE=image/jpeg:https://meditationsleiter.de/wp-content/uploads/2024/09/rene-monochord-.jpg
END:VEVENT
END:VCALENDAR